BEGIN:VCALENDAR
VERSION:2.0
PRODID:-//New Dexterity - ECPv5.1.5//NONSGML v1.0//EN
CALSCALE:GREGORIAN
METHOD:PUBLISH
X-WR-CALNAME:New Dexterity
X-ORIGINAL-URL:https://newdexterity.org
X-WR-CALDESC:Events for New Dexterity
BEGIN:VTIMEZONE
TZID:UTC
BEGIN:STANDARD
TZOFFSETFROM:+0000
TZOFFSETTO:+0000
TZNAME:UTC
DTSTART:20220101T000000
END:STANDARD
END:VTIMEZONE
BEGIN:VEVENT
DTSTART;VALUE=DATE:20221214
DTEND;VALUE=DATE:20221219
DTSTAMP:20260421T023958
CREATED:20220422T105806Z
LAST-MODIFIED:20221127T101947Z
UID:2848-1670976000-1671407999@newdexterity.org
SUMMARY:CoRL 2022
DESCRIPTION:The Conference on Robot Learning (CoRL) is an annual international conference focusing on the intersection of robotics and machine learning. CoRL 2022 will be held in Auckland\, New Zealand from December 14 to 18\, 2022. \nDecember is a summer month in New Zealand. You can expect bright\, sunny\, long days and temperatures that range from 60°F to 80°F. This one of the best times of the year to visit a beautiful beach or one of the many nearby volcanoes with the panoramic views or to enjoy outdoor activities such as hiking. \n
URL:https://newdexterity.org/event/corl-2022/
ATTACH;FMTTYPE=image/png:https://newdexterity.org/wp-content/uploads/2022/04/Title_logo_back.png
END:VEVENT
END:VCALENDAR